BEGIN:VCALENDAR
VERSION:2.0
PRODID:-//Citrus Cove Elementary PTO - ECPv6.15.17.1//NONSGML v1.0//EN
CALSCALE:GREGORIAN
METHOD:PUBLISH
X-WR-CALNAME:Citrus Cove Elementary PTO
X-ORIGINAL-URL:https://www.citruscovepto.com
X-WR-CALDESC:Events for Citrus Cove Elementary PTO
REFRESH-INTERVAL;VALUE=DURATION:PT1H
X-Robots-Tag:noindex
X-PUBLISHED-TTL:PT1H
BEGIN:VTIMEZONE
TZID:UTC
BEGIN:STANDARD
TZOFFSETFROM:+0000
TZOFFSETTO:+0000
TZNAME:UTC
DTSTART:20250101T000000
END:STANDARD
END:VTIMEZONE
BEGIN:VEVENT
DTSTART;TZID=UTC:20260305T190000
DTEND;TZID=UTC:20260305T210000
DTSTAMP:20260421T161717
CREATED:20260302T161839Z
LAST-MODIFIED:20260302T161839Z
UID:3039-1772737200-1772744400@www.citruscovepto.com
SUMMARY:Finding Nemo Jr.
DESCRIPTION:
URL:https://www.citruscovepto.com/event/finding-nemo-jr/
ATTACH;FMTTYPE=image/png:https://www.citruscovepto.com/wp-content/uploads/2026/03/findingnemo2.png
END:VEVENT
BEGIN:VEVENT
DTSTART;TZID=UTC:20260306T190000
DTEND;TZID=UTC:20260306T210000
DTSTAMP:20260421T161717
CREATED:20260302T162010Z
LAST-MODIFIED:20260302T162010Z
UID:3042-1772823600-1772830800@www.citruscovepto.com
SUMMARY:Finding Nemo Jr.
DESCRIPTION:
URL:https://www.citruscovepto.com/event/finding-nemo-jr-2/
END:VEVENT
BEGIN:VEVENT
DTSTART;TZID=UTC:20260310T160000
DTEND;TZID=UTC:20260310T200000
DTSTAMP:20260421T161717
CREATED:20260302T162337Z
LAST-MODIFIED:20260302T162337Z
UID:3044-1773158400-1773172800@www.citruscovepto.com
SUMMARY:Family Night Out-Five Guys
DESCRIPTION:
URL:https://www.citruscovepto.com/event/family-night-out-five-guys/
ATTACH;FMTTYPE=image/png:https://www.citruscovepto.com/wp-content/uploads/2026/03/5guys.png
END:VEVENT
BEGIN:VEVENT
DTSTART;VALUE=DATE:20260313
DTEND;VALUE=DATE:20260314
DTSTAMP:20260421T161717
CREATED:20260302T170249Z
LAST-MODIFIED:20260302T170342Z
UID:3056-1773360000-1773446399@www.citruscovepto.com
SUMMARY:Biz Kids
DESCRIPTION:Our 4th and 5th graders are entrepreneurs!If you would like your child to participate- please send in cash. Everything is priced between $1-$4
URL:https://www.citruscovepto.com/event/biz-kids/
ATTACH;FMTTYPE=image/jpeg:https://www.citruscovepto.com/wp-content/uploads/2020/09/blog-4.jpg
END:VEVENT
BEGIN:VEVENT
DTSTART;TZID=UTC:20260313T080000
DTEND;TZID=UTC:20260313T103000
DTSTAMP:20260421T161717
CREATED:20260302T162555Z
LAST-MODIFIED:20260302T165945Z
UID:3047-1773388800-1773397800@www.citruscovepto.com
SUMMARY:Tardy Party
DESCRIPTION:
URL:https://www.citruscovepto.com/event/tardy-party/
ATTACH;FMTTYPE=image/png:https://www.citruscovepto.com/wp-content/uploads/2023/08/kidsconfetti.png
END:VEVENT
BEGIN:VEVENT
DTSTART;VALUE=DATE:20260316
DTEND;VALUE=DATE:20260324
DTSTAMP:20260421T161717
CREATED:20260302T162903Z
LAST-MODIFIED:20260302T162903Z
UID:3049-1773619200-1774310399@www.citruscovepto.com
SUMMARY:Spring Break
DESCRIPTION:Wishing everyone a safe and fun Spring Break!
URL:https://www.citruscovepto.com/event/spring-break/
ATTACH;FMTTYPE=image/jpeg:https://www.citruscovepto.com/wp-content/uploads/2023/08/ci-contact.jpg
END:VEVENT
BEGIN:VEVENT
DTSTART;VALUE=DATE:20260327
DTEND;VALUE=DATE:20260328
DTSTAMP:20260421T161717
CREATED:20260302T163115Z
LAST-MODIFIED:20260302T163115Z
UID:3051-1774569600-1774655999@www.citruscovepto.com
SUMMARY:$1 Tie Dye Dress Down Day
DESCRIPTION:Bring in a dollar and rock your favorite tie dye!
URL:https://www.citruscovepto.com/event/1-tie-dye-dress-down-day/
END:VEVENT
BEGIN:VEVENT
DTSTART;TZID=UTC:20260327T082000
DTEND;TZID=UTC:20260327T133500
DTSTAMP:20260421T161717
CREATED:20260302T163348Z
LAST-MODIFIED:20260302T163348Z
UID:3053-1774599600-1774618500@www.citruscovepto.com
SUMMARY:Panther Party
DESCRIPTION:Panther Party!
URL:https://www.citruscovepto.com/event/panther-party-2/
ATTACH;FMTTYPE=image/png:https://www.citruscovepto.com/wp-content/uploads/2023/08/kidsconfetti.png
END:VEVENT
END:VCALENDAR